BEGIN:VCALENDAR
VERSION:2.0
PRODID:icalendar-ruby
CALSCALE:GREGORIAN
METHOD:PUBLISH
BEGIN:VEVENT
DTSTAMP:20260422T072018Z
UID:2b31d716-0423-437f-854a-a9bf0728deff
DTSTART:20260919T080000
DTEND:20260919T120000
DESCRIPTION:<p>The Robberg Express is a 9\,12 or 21km trail adventure aroun
 d one of South Africa’s most iconic landmarks — the Robberg Peninsula 
 in Plettenberg Bay. This spectacular route takes runners through the heart
  of a coastal nature reserve where rugged cliffs\, sandy stretches\, and o
 cean views collide in a trail experience like no other.</p><p><br></p><p>S
 tarting from Whale Rock Ridge\, runners wind through the fynbos-lined trai
 ls of “Snake Alley” before joining the famous Robberg hiking loop — 
 a mix of rocky singletrack\, rolling dunes\, and dramatic sea-edge paths o
 verlooking the turquoise Indian Ocean. It’s a route that challenges the 
 legs and rewards the spirit\, offering a perfect blend of technical trail\
 , wild beauty\, and untamed coastline.</p><p><br></p><p>Expect to share th
 e trail with seabirds and seals\, feel the sea spray on your face\, and so
 ak up sweeping views that stretch all the way to the Tsitsikamma mountains
 . Whether you’re chasing a fast time or simply running for the pure joy 
 of being out there\, the Robberg Express is a race that captures the essen
 ce of trail running on the Garden Route — raw\, scenic\, and unforgettab
 le.</p><p><br></p>
LOCATION:End of White Caps Lane - Plettenberg Bay (Open Parking Area)
SUMMARY:The Robberg Express - 2026
URL;VALUE=URI:https://thetrailshop.howler.co.za/therobbergexpress2026
END:VEVENT
END:VCALENDAR
